BEGIN:VCALENDAR
VERSION:2.0
PRODID:-//Center for Environmental Excellence | AASHTO - ECPv5.6.0//NONSGML v1.0//EN
CALSCALE:GREGORIAN
METHOD:PUBLISH
X-WR-CALNAME:Center for Environmental Excellence | AASHTO
X-ORIGINAL-URL:https://environment.transportation.org
X-WR-CALDESC:Events for Center for Environmental Excellence | AASHTO
BEGIN:VTIMEZONE
TZID:America/New_York
BEGIN:DAYLIGHT
TZOFFSETFROM:-0500
TZOFFSETTO:-0400
TZNAME:EDT
DTSTART:20210314T070000
END:DAYLIGHT
BEGIN:STANDARD
TZOFFSETFROM:-0400
TZOFFSETTO:-0500
TZNAME:EST
DTSTART:20211107T060000
END:STANDARD
END:VTIMEZONE
BEGIN:VEVENT
DTSTART;TZID=America/New_York:20210909T080000
DTEND;TZID=America/New_York:20210913T170000
DTSTAMP:20210921T233053
CREATED:20210624T194954Z
LAST-MODIFIED:20210624T203044Z
UID:7866-1631174400-1631552400@environment.transportation.org
SUMMARY:TRB Conference to Advance Transportation Equity
DESCRIPTION:
URL:https://environment.transportation.org/event/trb-conference-to-advance-transportation/
END:VEVENT
END:VCALENDAR